BEGIN:VCALENDAR
VERSION:2.0
PRODID:-//SABADE - ECPv6.15.1.1//NONSGML v1.0//EN
CALSCALE:GREGORIAN
METHOD:PUBLISH
X-ORIGINAL-URL:https://sabade.org
X-WR-CALDESC:Events for SABADE
REFRESH-INTERVAL;VALUE=DURATION:PT1H
X-Robots-Tag:noindex
X-PUBLISHED-TTL:PT1H
BEGIN:VTIMEZONE
TZID:America/New_York
BEGIN:DAYLIGHT
TZOFFSETFROM:-0500
TZOFFSETTO:-0400
TZNAME:EDT
DTSTART:20070311T070000
END:DAYLIGHT
BEGIN:STANDARD
TZOFFSETFROM:-0400
TZOFFSETTO:-0500
TZNAME:EST
DTSTART:20071104T060000
END:STANDARD
BEGIN:DAYLIGHT
TZOFFSETFROM:-0500
TZOFFSETTO:-0400
TZNAME:EDT
DTSTART:20080309T070000
END:DAYLIGHT
BEGIN:STANDARD
TZOFFSETFROM:-0400
TZOFFSETTO:-0500
TZNAME:EST
DTSTART:20081102T060000
END:STANDARD
BEGIN:DAYLIGHT
TZOFFSETFROM:-0500
TZOFFSETTO:-0400
TZNAME:EDT
DTSTART:20090308T070000
END:DAYLIGHT
BEGIN:STANDARD
TZOFFSETFROM:-0400
TZOFFSETTO:-0500
TZNAME:EST
DTSTART:20091101T060000
END:STANDARD
BEGIN:DAYLIGHT
TZOFFSETFROM:-0500
TZOFFSETTO:-0400
TZNAME:EDT
DTSTART:20100314T070000
END:DAYLIGHT
BEGIN:STANDARD
TZOFFSETFROM:-0400
TZOFFSETTO:-0500
TZNAME:EST
DTSTART:20101107T060000
END:STANDARD
BEGIN:DAYLIGHT
TZOFFSETFROM:-0500
TZOFFSETTO:-0400
TZNAME:EDT
DTSTART:20110313T070000
END:DAYLIGHT
BEGIN:STANDARD
TZOFFSETFROM:-0400
TZOFFSETTO:-0500
TZNAME:EST
DTSTART:20111106T060000
END:STANDARD
BEGIN:DAYLIGHT
TZOFFSETFROM:-0500
TZOFFSETTO:-0400
TZNAME:EDT
DTSTART:20120311T070000
END:DAYLIGHT
BEGIN:STANDARD
TZOFFSETFROM:-0400
TZOFFSETTO:-0500
TZNAME:EST
DTSTART:20121104T060000
END:STANDARD
BEGIN:DAYLIGHT
TZOFFSETFROM:-0500
TZOFFSETTO:-0400
TZNAME:EDT
DTSTART:20130310T070000
END:DAYLIGHT
BEGIN:STANDARD
TZOFFSETFROM:-0400
TZOFFSETTO:-0500
TZNAME:EST
DTSTART:20131103T060000
END:STANDARD
BEGIN:DAYLIGHT
TZOFFSETFROM:-0500
TZOFFSETTO:-0400
TZNAME:EDT
DTSTART:20140309T070000
END:DAYLIGHT
BEGIN:STANDARD
TZOFFSETFROM:-0400
TZOFFSETTO:-0500
TZNAME:EST
DTSTART:20141102T060000
END:STANDARD
BEGIN:DAYLIGHT
TZOFFSETFROM:-0500
TZOFFSETTO:-0400
TZNAME:EDT
DTSTART:20150308T070000
END:DAYLIGHT
BEGIN:STANDARD
TZOFFSETFROM:-0400
TZOFFSETTO:-0500
TZNAME:EST
DTSTART:20151101T060000
END:STANDARD
BEGIN:DAYLIGHT
TZOFFSETFROM:-0500
TZOFFSETTO:-0400
TZNAME:EDT
DTSTART:20160313T070000
END:DAYLIGHT
BEGIN:STANDARD
TZOFFSETFROM:-0400
TZOFFSETTO:-0500
TZNAME:EST
DTSTART:20161106T060000
END:STANDARD
END:VTIMEZONE
BEGIN:VEVENT
DTSTART;TZID=America/New_York:20160525T083000
DTEND;TZID=America/New_York:20160525T100000
DTSTAMP:20260423T204603
CREATED:20160425T013224Z
LAST-MODIFIED:20160425T013224Z
UID:424-1464165000-1464170400@sabade.org
SUMMARY:Breakfast with Delaware Attorney General Matt Denn
DESCRIPTION:
URL:https://sabade.org/event/breakfast-with-delaware-attorney-general-matt-denn/
LOCATION:Fish & Richardson
END:VEVENT
BEGIN:VEVENT
DTSTART;TZID=America/New_York:20160411T173000
DTEND;TZID=America/New_York:20160411T191500
DTSTAMP:20260423T204603
CREATED:20160317T173323Z
LAST-MODIFIED:20160317T174114Z
UID:278-1460395800-1460402100@sabade.org
SUMMARY:Deepa Iyer - a book reading\, discussion\, and signing of We Too Sing America
DESCRIPTION:Deepa\, a South Asian American activist\, writer\, and lawyer\, currently serves as Senior Fellow at The Center for Social Inclusion\, where she provides analysis\, commentary and scholarship on equity and solidarity in America’s changing racial landscape. Deepa writes at deepaiyer.com. \nMonday\, April 11\, 2016\n5:30 p.m. Registration and Refreshments\n6:15 p.m. Book Reading and Discussion\n7:15 p.m. Book Signing \nPlease respond by Monday\, April 4. \nSponsored by:\nThe Delaware Human Relations Commission | Ballard Spahr LLP\nMorris James LLP | Potter Anderson Corroon LLP | Skadden \nSABA_Evite_DeepaIyer_031416_rev
URL:https://sabade.org/event/deepa-iyer/
LOCATION:Cavel State Office Building – 2nd Fl Auditorium\, 820 N. Front Street\, Wilmington\, DE\, United States
CATEGORIES:Book Reading
END:VEVENT
BEGIN:VEVENT
DTSTART;TZID=America/New_York:20141110T180000
DTEND;TZID=America/New_York:20141110T200000
DTSTAMP:20260423T204603
CREATED:20160425T012935Z
LAST-MODIFIED:20160425T012935Z
UID:422-1415642400-1415649600@sabade.org
SUMMARY:An Evening with Judge Sri Srinivasan
DESCRIPTION:
URL:https://sabade.org/event/an-evening-with-judge-sri-srinivasan/
LOCATION:Skadden\, Arps\, Slate\, Meagher & Flom LLP\, 920 North King Street\, One Rodney Square\, 6th Floor\, Wilmington\, DE\, 19801\, United States
END:VEVENT
BEGIN:VEVENT
DTSTART;TZID=America/New_York:20121024T180000
DTEND;TZID=America/New_York:20121024T200000
DTSTAMP:20260423T204603
CREATED:20150415T163243Z
LAST-MODIFIED:20160425T012445Z
UID:125-1351101600-1351108800@sabade.org
SUMMARY:5th Anniversary Celebration
DESCRIPTION:Please join us on Wednesday\, October 24th from 6 – 8 pm at the Barrister’s Club at Widener University School of Law\, 4601 Concord Pike in Wilmington\, Delaware for our Fifth Anniversary Celebration with Guest Speaker\, Preet Bharara\, U.S. Attorney for the Southern District of New York and one of Time magazine’s â€˜100 Most Influential People in the World’.\nThank you to our generous sponsors\, Ballard Spahr\, Skadden\, Cole Schotz\, Potter Anderson\, Fish and Richardson\, Morris Nichols\, the North American South Asian Bar Association (NASABA) and the South Asian Law Student Association (SALSA)!\nThis is a free event open to interested members or friends of the Delaware legal community. Feel free to forward to others who may be interested. Please RSVP by October 19th to Anne Gwal at anne.gwal@pepcoholdings.com
URL:https://sabade.org/event/anniversary/
LOCATION:Widener Univeristy School of Law\, 4601 Concord Pike\, Wilmington\, DE\, United States
CATEGORIES:Conference
END:VEVENT
BEGIN:VEVENT
DTSTART;TZID=America/New_York:20070725T120000
DTEND;TZID=America/New_York:20070725T130000
DTSTAMP:20260423T204603
CREATED:20150701T202618Z
LAST-MODIFIED:20160425T012428Z
UID:157-1185364800-1185368400@sabade.org
SUMMARY:SABA-DE Luncheon with Saira Rao\, Attorney-Author of The Chambermaid
DESCRIPTION:Join us for an informal lunchtime chat with lawyer-writer\, Saira Rao\, author of The Chambermaid \nHave you ever thought about clerking?\nHave you ever wondered how to find a publisher?\nHow do you find time to write a book while working?\nAsk Saira during the Q & A! \nBook Reading and Signing to follow. \nThis event is open to everyone so please feel free to forward this email to anyone you think may be interested. \nLunch provided courtesy of Morris Nichols Arsht & Tunnell \nPlease r.s.v.p. to Emilie Ninan (ninane@ballardspahr.com) or 302-252-4426 \n  \nAbout the Author\nSaira Rao was born and raised in Richmond\, Virginia. After graduating from the University of Virginia\, she worked at WUSA TV in Washington DC and WSVN TV in Miami before heading off to law school. She received her JD from New York University School of Law in 2002\, clerked on the Third Circuit Court of Appeals in Philadelphia and worked as an associate at Cleary Gottlieb Steen & Hamilton. Today\, Saira lives in New York City with her husband. \nAbout the Book\n“The devil holds a gavel in this wickedly entertaining debut novel about a young attorney’s eventful year clerking for a federal judge. Sheila Raj is a recent graduate of a top-ten law school with dreams of working for the ACLU. When she lands a coveted yearlong federal clerkship with legal goddess Judge Helga Friedman\, she cannot help but think that her life is destined for jurisprudential greatness.” \nFor more information about the author and her book go to www.sairarao.com. \n  \n“Saira Rao is a funny and charming writer.”\n—Gary Shteyngart\, author of Absurdistan and The Russian Debutante’s Handbook \n“Rao’s wit shines in her debut.”\n—Publisher’s Weekly \n“A smart\, in-depth look behind the courtroom walls\, revealing the lack of honor toiling for an Honorable judge\, showing the devil really wears a black robe. Luckily for Rao’s determined\, funny heroine\, justice is ultimately served.”\n—Jill Kargman\, co-author of The Right Address and author of Momzillas
URL:https://sabade.org/event/saba-de-luncheon-with-saira-rao-attorney-author-of-the-chambermaid/
LOCATION:DE
CATEGORIES:Luncheon Discussion
ATTACH;FMTTYPE=image/jpeg:https://sabade.org/wp-content/uploads/2015/07/thechambermaid.jpg
END:VEVENT
END:VCALENDAR