BEGIN:VCALENDAR
VERSION:2.0
PRODID:-//SABADE - ECPv6.15.1.1//NONSGML v1.0//EN
CALSCALE:GREGORIAN
METHOD:PUBLISH
X-ORIGINAL-URL:https://sabade.org
X-WR-CALDESC:Events for SABADE
REFRESH-INTERVAL;VALUE=DURATION:PT1H
X-Robots-Tag:noindex
X-PUBLISHED-TTL:PT1H
BEGIN:VTIMEZONE
TZID:America/New_York
BEGIN:DAYLIGHT
TZOFFSETFROM:-0500
TZOFFSETTO:-0400
TZNAME:EDT
DTSTART:20070311T070000
END:DAYLIGHT
BEGIN:STANDARD
TZOFFSETFROM:-0400
TZOFFSETTO:-0500
TZNAME:EST
DTSTART:20071104T060000
END:STANDARD
END:VTIMEZONE
BEGIN:VEVENT
DTSTART;TZID=America/New_York:20070725T120000
DTEND;TZID=America/New_York:20070725T130000
DTSTAMP:20260424T023817
CREATED:20150701T202618Z
LAST-MODIFIED:20160425T012428Z
UID:157-1185364800-1185368400@sabade.org
SUMMARY:SABA-DE Luncheon with Saira Rao\, Attorney-Author of The Chambermaid
DESCRIPTION:Join us for an informal lunchtime chat with lawyer-writer\, Saira Rao\, author of The Chambermaid \nHave you ever thought about clerking?\nHave you ever wondered how to find a publisher?\nHow do you find time to write a book while working?\nAsk Saira during the Q & A! \nBook Reading and Signing to follow. \nThis event is open to everyone so please feel free to forward this email to anyone you think may be interested. \nLunch provided courtesy of Morris Nichols Arsht & Tunnell \nPlease r.s.v.p. to Emilie Ninan (ninane@ballardspahr.com) or 302-252-4426 \n  \nAbout the Author\nSaira Rao was born and raised in Richmond\, Virginia. After graduating from the University of Virginia\, she worked at WUSA TV in Washington DC and WSVN TV in Miami before heading off to law school. She received her JD from New York University School of Law in 2002\, clerked on the Third Circuit Court of Appeals in Philadelphia and worked as an associate at Cleary Gottlieb Steen & Hamilton. Today\, Saira lives in New York City with her husband. \nAbout the Book\n“The devil holds a gavel in this wickedly entertaining debut novel about a young attorney’s eventful year clerking for a federal judge. Sheila Raj is a recent graduate of a top-ten law school with dreams of working for the ACLU. When she lands a coveted yearlong federal clerkship with legal goddess Judge Helga Friedman\, she cannot help but think that her life is destined for jurisprudential greatness.” \nFor more information about the author and her book go to www.sairarao.com. \n  \n“Saira Rao is a funny and charming writer.”\n—Gary Shteyngart\, author of Absurdistan and The Russian Debutante’s Handbook \n“Rao’s wit shines in her debut.”\n—Publisher’s Weekly \n“A smart\, in-depth look behind the courtroom walls\, revealing the lack of honor toiling for an Honorable judge\, showing the devil really wears a black robe. Luckily for Rao’s determined\, funny heroine\, justice is ultimately served.”\n—Jill Kargman\, co-author of The Right Address and author of Momzillas
URL:https://sabade.org/event/saba-de-luncheon-with-saira-rao-attorney-author-of-the-chambermaid/
CATEGORIES:Luncheon Discussion
ATTACH;FMTTYPE=image/jpeg:https://sabade.org/wp-content/uploads/2015/07/thechambermaid.jpg
END:VEVENT
END:VCALENDAR