BEGIN:VCALENDAR
VERSION:2.0
PRODID:-//SABADE - ECPv6.15.1.1//NONSGML v1.0//EN
CALSCALE:GREGORIAN
METHOD:PUBLISH
X-ORIGINAL-URL:https://sabade.org
X-WR-CALDESC:Events for SABADE
REFRESH-INTERVAL;VALUE=DURATION:PT1H
X-Robots-Tag:noindex
X-PUBLISHED-TTL:PT1H
BEGIN:VTIMEZONE
TZID:America/New_York
BEGIN:DAYLIGHT
TZOFFSETFROM:-0500
TZOFFSETTO:-0400
TZNAME:EDT
DTSTART:20120311T070000
END:DAYLIGHT
BEGIN:STANDARD
TZOFFSETFROM:-0400
TZOFFSETTO:-0500
TZNAME:EST
DTSTART:20121104T060000
END:STANDARD
END:VTIMEZONE
BEGIN:VEVENT
DTSTART;TZID=America/New_York:20121024T180000
DTEND;TZID=America/New_York:20121024T200000
DTSTAMP:20260424T024901
CREATED:20150415T163243Z
LAST-MODIFIED:20160425T012445Z
UID:125-1351101600-1351108800@sabade.org
SUMMARY:5th Anniversary Celebration
DESCRIPTION:Please join us on Wednesday\, October 24th from 6 – 8 pm at the Barrister’s Club at Widener University School of Law\, 4601 Concord Pike in Wilmington\, Delaware for our Fifth Anniversary Celebration with Guest Speaker\, Preet Bharara\, U.S. Attorney for the Southern District of New York and one of Time magazine’s â€˜100 Most Influential People in the World’.\nThank you to our generous sponsors\, Ballard Spahr\, Skadden\, Cole Schotz\, Potter Anderson\, Fish and Richardson\, Morris Nichols\, the North American South Asian Bar Association (NASABA) and the South Asian Law Student Association (SALSA)!\nThis is a free event open to interested members or friends of the Delaware legal community. Feel free to forward to others who may be interested. Please RSVP by October 19th to Anne Gwal at anne.gwal@pepcoholdings.com
URL:https://sabade.org/event/anniversary/
LOCATION:Widener Univeristy School of Law\, 4601 Concord Pike\, Wilmington\, DE\, United States
CATEGORIES:Conference
END:VEVENT
END:VCALENDAR